BEGIN:VCALENDAR
VERSION:2.0
PRODID:EVENTFROG//EVENT//ICAL
BEGIN:VEVENT
UID:20260424T075639Z-7452108063115377175@eventfrog.ch
DTSTAMP:20260424T075639Z
DTSTART:20260523T080000Z
DTEND:20260523T200000Z
SUMMARY:OPEN DAY – Free Classes + After Party  23 May
DESCRIPTION:United Dance Studio bietet am 23. Mai gratis Tanzklassen mit Afro, Hip-Hop & mehr plus After Party ab 18 Uhr in Zürich Altstetten.\n\nhttps://eventfrog.ch/de/p/kurse-seminare/musik-tanz/open-day-free-classes-after-party-23-may-7452108063115377175.html
LOCATION:U.DANCE.STUDIO
GEO:47.390991;8.489192
URL:https://eventfrog.ch/de/p/kurse-seminare/musik-tanz/open-day-free-classes-after-party-23-may-7452108063115377175.html
END:VEVENT
END:VCALENDAR