BEGIN:VCALENDAR
VERSION:2.0
PRODID:EVENTFROG//EVENT//ICAL
BEGIN:VEVENT
UID:20260424T063709Z-7452110641278543177@eventfrog.ch
DTSTAMP:20260424T063709Z
DTSTART:20260513T170000Z
SUMMARY:Abend in der Sternwarte
DESCRIPTION:Ein gemeinsamer Blick in die Sterne.\n\nhttps://eventfrog.ch/de/p/wissenschaft-und-technik/abend-in-der-sternwarte-7452110641278543177.html
LOCATION:Planetarium | Bodensee
GEO:47.641511;9.159443
URL:https://eventfrog.ch/de/p/wissenschaft-und-technik/abend-in-der-sternwarte-7452110641278543177.html
END:VEVENT
END:VCALENDAR