BEGIN:VCALENDAR
VERSION:2.0
PRODID:EVENTFROG//EVENT//ICAL
BEGIN:VEVENT
UID:20260426T041317Z-7452115824679071608@eventfrog.ch
DTSTAMP:20260426T041317Z
DTSTART:20260517T150000Z
SUMMARY:The Armed Man: A Mass for Peace
DESCRIPTION:Chorwerk von Karl Jenkins, Oratorienchor St.Gallen.\n\nhttps://eventfrog.ch/de/p/konzerte/the-armed-man-a-mass-for-peace-7452115824679071608.html
LOCATION:Kirche St.Maria Neudorf
GEO:47.438297;9.406467
URL:https://eventfrog.ch/de/p/konzerte/the-armed-man-a-mass-for-peace-7452115824679071608.html
END:VEVENT
END:VCALENDAR