BEGIN:VCALENDAR
VERSION:2.0
PRODID:EVENTFROG//EVENT//ICAL
BEGIN:VEVENT
UID:20260425T223438Z-7452115917335444448@eventfrog.ch
DTSTAMP:20260425T223438Z
DTSTART:20260502T150000Z
SUMMARY:Dschungelbuch
DESCRIPTION:Mit Bagheera leise durch den Dschungel schleichen.\n\nhttps://eventfrog.ch/de/p/theater-buehne/dschungelbuch-7452115917335444448.html
LOCATION:Storchen
GEO:47.427136;9.376076
URL:https://eventfrog.ch/de/p/theater-buehne/dschungelbuch-7452115917335444448.html
END:VEVENT
END:VCALENDAR