BEGIN:VCALENDAR
VERSION:2.0
PRODID:EVENTFROG//EVENT//ICAL
BEGIN:VEVENT
UID:20260425T221626Z-7452115918203665383@eventfrog.ch
DTSTAMP:20260425T221626Z
DTSTART:20260520T123000Z
SUMMARY:Dschungelbuch
DESCRIPTION:Mit Bagheera leise durch den Dschungel schleichen.\n\nhttps://eventfrog.ch/de/p/theater-buehne/dschungelbuch-7452115918203665383.html
LOCATION:Storchen
GEO:47.427136;9.376076
URL:https://eventfrog.ch/de/p/theater-buehne/dschungelbuch-7452115918203665383.html
END:VEVENT
END:VCALENDAR