BEGIN:VCALENDAR
VERSION:2.0
PRODID:EVENTFROG//EVENT//ICAL
BEGIN:VEVENT
UID:20260424T183626Z-7452131647569280819@eventfrog.ch
DTSTAMP:20260424T183626Z
DTSTART:20260529T170000Z
DTEND:20260529T203000Z
SUMMARY:„Route 66“ Coverband, Rockklassiker der 60er 90er
DESCRIPTION:Route 66 ist eine etablierte Coverband, die sich auf Rockklassiker der 60er bis 90er Jahre spezialisiert hat. \n\nhttps://eventfrog.ch/de/p/konzerte/pop-rock/route-66-coverband-rockklassiker-der-60er-90er-7452131647569280819.html
LOCATION:Haus Pöpsel
GEO:51.737815;8.067948
URL:https://eventfrog.ch/de/p/konzerte/pop-rock/route-66-coverband-rockklassiker-der-60er-90er-7452131647569280819.html
END:VEVENT
END:VCALENDAR