BEGIN:VCALENDAR
VERSION:2.0
PRODID:EVENTFROG//EVENT//ICAL
BEGIN:VEVENT
UID:20260424T075633Z-7452179474576105348@eventfrog.ch
DTSTAMP:20260424T075633Z
DTSTART:20260510T150000Z
DTEND:20260510T170000Z
SUMMARY:Guarneri Trio im Konzertsaal Solothurn
DESCRIPTION:Mozart, Martinu, Menedelssohn Wolfgang Amadeus Mozart vollendete 1788 sein letztes Klaviertrio KV 564, das auch diesmal für den Freund Puchberg...\n\nhttps://eventfrog.ch/de/p/klassik-opern/klassik/guarneri-trio-im-konzertsaal-solothurn-7452179474576105348.html
LOCATION:Konzertsaal Solothurn
GEO:47.209829;7.536240
URL:https://eventfrog.ch/de/p/klassik-opern/klassik/guarneri-trio-im-konzertsaal-solothurn-7452179474576105348.html
END:VEVENT
END:VCALENDAR