BEGIN:VCALENDAR
VERSION:2.0
PRODID:EVENTFROG//EVENT//ICAL
BEGIN:VEVENT
UID:20260424T075620Z-7452245211130893872@eventfrog.ch
DTSTAMP:20260424T075620Z
DTSTART:20260615T171500Z
DTEND:20260615T200000Z
SUMMARY:Kuscheln und Berühren
DESCRIPTION:Entdecke die Kuschel-Energie und lerne achtsam zu berühren. In entspannter Atmosphäre kannst du dich selbst besser wahrnehmen und Grenzen respektieren. Liebevolles Kuscheln in Gruppen.\n\nhttps://eventfrog.ch/en/p/courses-seminars/other-courses-seminars/kuscheln-und-beruehren-7452245211130893872.html
LOCATION:Pavillon Würzenbach
GEO:47.053760;8.339949
URL:https://eventfrog.ch/en/p/courses-seminars/other-courses-seminars/kuscheln-und-beruehren-7452245211130893872.html
END:VEVENT
END:VCALENDAR