BEGIN:VCALENDAR
VERSION:2.0
PRODID:EVENTFROG//EVENT//ICAL
BEGIN:VEVENT
UID:20260424T215915Z-7452252077584077101@eventfrog.ch
DTSTAMP:20260424T215915Z
DTSTART:20261017T180000Z
SUMMARY:Charles Nguela - Timing
DESCRIPTION:Timing is everything. Nicht nur auf der Bühne, sondern auch im Leben.\n\n\nhttps://eventfrog.ch/de/p/theater-buehne/comedy-kabarett/charles-nguela-timing-7452252077584077101.html
LOCATION:Theater Fauteuil
GEO:47.557349;7.586407
URL:https://eventfrog.ch/de/p/theater-buehne/comedy-kabarett/charles-nguela-timing-7452252077584077101.html
END:VEVENT
END:VCALENDAR