BEGIN:VCALENDAR
VERSION:2.0
PRODID:EVENTFROG//EVENT//ICAL
BEGIN:VEVENT
UID:20260424T051557Z-7452257491910399724@eventfrog.ch
DTSTAMP:20260424T051557Z
DTSTART:20260425T080000Z
DTEND:20260502T140000Z
SUMMARY:Spicher Gartenmöbelwochen
DESCRIPTION:Spicher Gartenmöbelwochen\n25. April bis 2. Mai 2026\nProfitieren Sie von 10% Rabatt auf alle Gartenmöbel!\n\nhttps://eventfrog.ch/de/p/messen/gartenschau/spicher-gartenmoebelwochen-7452257491910399724.html
LOCATION:Schreinerei Spicher
GEO:47.472138;8.194301
URL:https://eventfrog.ch/de/p/messen/gartenschau/spicher-gartenmoebelwochen-7452257491910399724.html
END:VEVENT
END:VCALENDAR