BEGIN:VCALENDAR
VERSION:2.0
PRODID:EVENTFROG//EVENT//ICAL
BEGIN:VEVENT
UID:20260424T065317Z-7452258938345516287@eventfrog.ch
DTSTAMP:20260424T065317Z
DTSTART:20260628T093000Z
DTEND:20260628T103000Z
SUMMARY:Sonntagsführung
DESCRIPTION:Sonntagsführung durch die Ausstellung «HAP Grieshaber – Einschnitt  Ausdruck. Sammlung Würth»\n\nhttps://eventfrog.ch/en/p/art-exhibitions/other-art-events/sonntagsfuehrung-7452258938345516287.html
LOCATION:Forum Würth Arlesheim
GEO:47.497009;7.607158
URL:https://eventfrog.ch/en/p/art-exhibitions/other-art-events/sonntagsfuehrung-7452258938345516287.html
END:VEVENT
END:VCALENDAR