BEGIN:VCALENDAR
VERSION:2.0
PRODID:EVENTFROG//EVENT//ICAL
BEGIN:VEVENT
UID:20260424T065324Z-7452258940761435461@eventfrog.ch
DTSTAMP:20260424T065324Z
DTSTART:20270214T103000Z
DTEND:20270214T113000Z
SUMMARY:Sonntagsführung
DESCRIPTION:Sonntagsführung durch die Ausstellung «HAP Grieshaber – Einschnitt  Ausdruck. Sammlung Würth»\n\nhttps://eventfrog.ch/en/p/art-exhibitions/other-art-events/sonntagsfuehrung-7452258940761435461.html
LOCATION:Forum Würth Arlesheim
GEO:47.497009;7.607158
URL:https://eventfrog.ch/en/p/art-exhibitions/other-art-events/sonntagsfuehrung-7452258940761435461.html
END:VEVENT
END:VCALENDAR