BEGIN:VCALENDAR
VERSION:2.0
PRODID:EVENTFROG//EVENT//ICAL
BEGIN:VEVENT
UID:20260424T064910Z-7452262105015662364@eventfrog.ch
DTSTAMP:20260424T064910Z
DTSTART:20260502T210000Z
DTEND:20260503T030000Z
SUMMARY:LA PAMPARA - WHITE EDITION
DESCRIPTION:Die heißeste Latin Party der Stadt erwartet dich – ganz in Weiß! Tanze zu den besten Latin Hits, genieße exotische Vibes und erlebe die magische „White Edition“.\n\nhttps://eventfrog.ch/de/p/partys/latin-brasil/la-pampara-white-edition-7452262105015662364.html
LOCATION:Flamingo Club
GEO:47.382199;8.534525
URL:https://eventfrog.ch/de/p/partys/latin-brasil/la-pampara-white-edition-7452262105015662364.html
END:VEVENT
END:VCALENDAR