BEGIN:VCALENDAR
VERSION:2.0
PRODID:EVENTFROG//EVENT//ICAL
BEGIN:VEVENT
UID:20260424T035345Z-7452270526351816606@eventfrog.ch
DTSTAMP:20260424T035345Z
DTSTART:20260709T153000Z
DTEND:20260709T200000Z
SUMMARY:Spätschicht: Sinneswelten
DESCRIPTION:Wissenschaft und Kunst vereint: Faszinierende Experimente zum Mitmachen, künstlerische Darbietungen und als Highlight ein mitreissendes Konzert der Technorama-Band.\n\nhttps://eventfrog.ch/de/p/festivals/weitere-festivals/spaetschicht-sinneswelten-7452270526351816606.html
LOCATION:Technorama
GEO:47.513990;8.764404
URL:https://eventfrog.ch/de/p/festivals/weitere-festivals/spaetschicht-sinneswelten-7452270526351816606.html
END:VEVENT
END:VCALENDAR