BEGIN:VCALENDAR
VERSION:2.0
PRODID:EVENTFROG//EVENT//ICAL
BEGIN:VEVENT
UID:20260424T094214Z-7452271903794836248@eventfrog.ch
DTSTAMP:20260424T094214Z
DTSTART:20260523T180000Z
DTEND:20260523T190000Z
SUMMARY:SOMMERBÜHNE: ANDERSON, STÜSSI, KESSLER.
DESCRIPTION:Ray Anderson, Félix Stüssi und Patrick Kessler spielen ihr aktuelles Projekt mit abenteuerlichen Arrangements und packenden Grooves.\n\nhttps://eventfrog.ch/de/p/konzerte/jazz-blues/sommerbuehne-anderson-stuessi-kessler-7452271903794836248.html
LOCATION:Schloss Wartegg
GEO:47.478425;9.530131
URL:https://eventfrog.ch/de/p/konzerte/jazz-blues/sommerbuehne-anderson-stuessi-kessler-7452271903794836248.html
END:VEVENT
END:VCALENDAR