BEGIN:VCALENDAR
VERSION:2.0
PRODID:EVENTFROG//EVENT//ICAL
BEGIN:VEVENT
UID:20260424T053227Z-7452274319311282996@eventfrog.ch
DTSTAMP:20260424T053227Z
DTSTART:20260507T170000Z
DTEND:20260507T183100Z
SUMMARY:Wine Tasting Ukraine with the White Glove Sommelier
DESCRIPTION:Armin H. Müller - The White Glove Sommelier invites YOU to the Ukraine Wine-Tasting. Discover how excellent Wines from Umbria are and taste 6 wines in a great atmosphere\n\nhttps://eventfrog.ch/de/p/essen-trinken/wine-tasting-ukraine-with-the-white-glove-sommelier-7452274319311282996.html
LOCATION:A. Müller Event Location
GEO:47.348753;8.702726
URL:https://eventfrog.ch/de/p/essen-trinken/wine-tasting-ukraine-with-the-white-glove-sommelier-7452274319311282996.html
END:VEVENT
END:VCALENDAR