BEGIN:VCALENDAR
VERSION:2.0
PRODID:EVENTFROG//EVENT//ICAL
BEGIN:VEVENT
UID:20260424T063605Z-7452283180088852690@eventfrog.ch
DTSTAMP:20260424T063605Z
DTSTART:20260520T170000Z
DTEND:20260520T190000Z
SUMMARY:Naturjodel-Workshop mit Sophie Aeberli
DESCRIPTION:Wir steigen ein in die Jodeltechnik und lernen den „Wildhuser“. Bei trockenem Wetter jodeln wir zum Abschluss in einem nahegelegenen Park.\n\n\nhttps://eventfrog.ch/de/p/kurse-seminare/musik-tanz/naturjodel-workshop-mit-sophie-aeberli-7452283180088852690.html
LOCATION:Jonas' Musikraum
GEO:47.363032;8.554518
URL:https://eventfrog.ch/de/p/kurse-seminare/musik-tanz/naturjodel-workshop-mit-sophie-aeberli-7452283180088852690.html
END:VEVENT
END:VCALENDAR