BEGIN:VCALENDAR
VERSION:2.0
PRODID:EVENTFROG//EVENT//ICAL
BEGIN:VEVENT
UID:20260424T053228Z-7452285298673716200@eventfrog.ch
DTSTAMP:20260424T053228Z
DTSTART:20260510T120000Z
DTEND:20260510T140000Z
SUMMARY:OFFENES ATELIER AM MUTTERTAG
DESCRIPTION: In diesem Workshop werden Schreibimpulse zur Textverarbeitung gegeben sowie mit einfachen Druckverfahren eine Karte gestaltet.\n\nhttps://eventfrog.ch/de/p/kunst-ausstellungen/weitere-kunstveranstaltungen/offenes-atelier-am-muttertag-7452285298673716200.html
LOCATION:Forum Würth Arlesheim
GEO:47.497009;7.607158
URL:https://eventfrog.ch/de/p/kunst-ausstellungen/weitere-kunstveranstaltungen/offenes-atelier-am-muttertag-7452285298673716200.html
END:VEVENT
END:VCALENDAR