BEGIN:VCALENDAR
VERSION:2.0
PRODID:EVENTFROG//EVENT//ICAL
BEGIN:VEVENT
UID:20260424T094235Z-7452287763305499777@eventfrog.ch
DTSTAMP:20260424T094235Z
DTSTART:20260705T180000Z
DTEND:20260705T190000Z
SUMMARY:SOMMERBÜHNE: KARIN STREULE & BAND
DESCRIPTION:Karin Streule und Ensemble verbinden Volkslieder mit Jazz, Folk und Pop zu poetischen Klangbildern voll Wärme und Tradition.\n\nhttps://eventfrog.ch/de/p/konzerte/jazz-blues/sommerbuehne-karin-streule-band-7452287763305499777.html
LOCATION:Schloss Wartegg
GEO:47.478425;9.530131
URL:https://eventfrog.ch/de/p/konzerte/jazz-blues/sommerbuehne-karin-streule-band-7452287763305499777.html
END:VEVENT
END:VCALENDAR