BEGIN:VCALENDAR
VERSION:2.0
PRODID:EVENTFROG//EVENT//ICAL
BEGIN:VEVENT
UID:20260424T183658Z-7452299706963593839@eventfrog.ch
DTSTAMP:20260424T183658Z
DTSTART:20260616T120000Z
DTEND:20260616T130000Z
SUMMARY:Öffentliche Museumsführung
DESCRIPTION:Bereichern Sie Ihren Museumsbesuch mit einer faszinierenden Führung und entdecken Sie spannende Hintergründe.\n\n\n\nhttps://eventfrog.ch/de/p/freizeit-ausfluege/ausflug/oeffentliche-museumsfuehrung-7452299706963593839.html
LOCATION:Museum Der Kleine Prinz und seine Welt
GEO:47.206886;7.538773
URL:https://eventfrog.ch/de/p/freizeit-ausfluege/ausflug/oeffentliche-museumsfuehrung-7452299706963593839.html
END:VEVENT
END:VCALENDAR