BEGIN:VCALENDAR
VERSION:2.0
PRODID:EVENTFROG//EVENT//ICAL
BEGIN:VEVENT
UID:20260424T081817Z-7452300471425888960@eventfrog.ch
DTSTAMP:20260424T081817Z
DTSTART:20260530T210000Z
DTEND:20260531T030000Z
SUMMARY:LATIDO @FLAMINGO CLUB ZÜRICH
DESCRIPTION:LATIDO LATIN @FLAMINGO\n\nhttps://eventfrog.ch/de/p/partys/latin-brasil/latido-flamingo-club-zuerich-7452300471425888960.html
LOCATION:Flamingo Club
GEO:47.382199;8.534525
URL:https://eventfrog.ch/de/p/partys/latin-brasil/latido-flamingo-club-zuerich-7452300471425888960.html
END:VEVENT
END:VCALENDAR