BEGIN:VCALENDAR
VERSION:2.0
PRODID:EVENTFROG//EVENT//ICAL
BEGIN:VEVENT
UID:20260424T183647Z-7452305750481763429@eventfrog.ch
DTSTAMP:20260424T183647Z
DTSTART:20261015T153000Z
DTEND:20261015T163000Z
SUMMARY:Öffentliche Museumsführung
DESCRIPTION:Bereichern Sie Ihren Museumsbesuch mit einer faszinierenden Führung und entdecken Sie spannende Hintergründe.\n\n\n\nhttps://eventfrog.ch/de/p/freizeit-ausfluege/ausflug/oeffentliche-museumsfuehrung-7452305750481763429.html
LOCATION:Museum Der Kleine Prinz und seine Welt
GEO:47.206886;7.538773
URL:https://eventfrog.ch/de/p/freizeit-ausfluege/ausflug/oeffentliche-museumsfuehrung-7452305750481763429.html
END:VEVENT
END:VCALENDAR