BEGIN:VCALENDAR
VERSION:2.0
PRODID:EVENTFROG//EVENT//ICAL
BEGIN:VEVENT
UID:20260424T183646Z-7452305750855056494@eventfrog.ch
DTSTAMP:20260424T183646Z
DTSTART:20261112T163000Z
DTEND:20261112T173000Z
SUMMARY:Öffentliche Museumsführung
DESCRIPTION:Bereichern Sie Ihren Museumsbesuch mit einer faszinierenden Führung und entdecken Sie spannende Hintergründe.\n\n\n\nhttps://eventfrog.ch/de/p/freizeit-ausfluege/ausflug/oeffentliche-museumsfuehrung-7452305750855056494.html
LOCATION:Museum Der Kleine Prinz und seine Welt
GEO:47.206886;7.538773
URL:https://eventfrog.ch/de/p/freizeit-ausfluege/ausflug/oeffentliche-museumsfuehrung-7452305750855056494.html
END:VEVENT
END:VCALENDAR