BEGIN:VCALENDAR
VERSION:2.0
PRODID:EVENTFROG//EVENT//ICAL
BEGIN:VEVENT
UID:20260424T051558Z-7452315007570679591@eventfrog.ch
DTSTAMP:20260424T051558Z
DTSTART:20261010T200000Z
DTEND:20261011T030000Z
SUMMARY:10 octobre
DESCRIPTION:Line up suivra, 18+, 300 places max, ticket en vente sur place, apportez votre propre votre consommation, sécurité à l'entrée, pas de casier disponible, pas de places de parking.\n\nhttps://eventfrog.ch/fr/p/concerts/techno/10-octobre-7452315007570679591.html
LOCATION:Association du Quartier d’Alt
GEO:46.808106;7.155973
URL:https://eventfrog.ch/fr/p/concerts/techno/10-octobre-7452315007570679591.html
END:VEVENT
END:VCALENDAR