BEGIN:VCALENDAR
VERSION:2.0
PRODID:EVENTFROG//EVENT//ICAL
BEGIN:VEVENT
UID:20260424T081824Z-7452323530060860576@eventfrog.ch
DTSTAMP:20260424T081824Z
DTSTART:20260613T210000Z
DTEND:20260614T040000Z
SUMMARY:Groove on X Me-Pate
DESCRIPTION:Am 13. Juni 2026 verbindet Bellevue Zürich Me•Pate und Groove On mit Afro House und Techhouse zu einer einzigartigen Partynacht.\n\nhttps://eventfrog.ch/de/p/partys/house-techno/groove-on-x-me-pate-7452323530060860576.html
LOCATION:Club Bellevue
GEO:47.367451;8.546107
URL:https://eventfrog.ch/de/p/partys/house-techno/groove-on-x-me-pate-7452323530060860576.html
END:VEVENT
END:VCALENDAR