BEGIN:VCALENDAR
VERSION:2.0
PRODID:EVENTFROG//EVENT//ICAL
BEGIN:VEVENT
UID:20260424T064846Z-7452325935624238261@eventfrog.ch
DTSTAMP:20260424T064846Z
DTSTART:20261030T190000Z
SUMMARY:Häsch Nid Gseit! - Die frechste Comedyshow der Schweiz
DESCRIPTION:Eine rasante Frage-Antwort-Comedy-Show, in der die Künstler:innen ihr Improvisationstalent in witzigen Game-Elementen gnadenlos ausspielen. Mit dabei: Valerio Moser, Gabirano, Cenk und Julia Steiner.\n\nhttps://eventfrog.ch/de/p/theater-buehne/comedy-kabarett/haesch-nid-gseit-die-frechste-comedyshow-der-schweiz-7452325935624238261.html
LOCATION:Obere Mühle - Saal Dachstock
GEO:47.395329;8.623963
URL:https://eventfrog.ch/de/p/theater-buehne/comedy-kabarett/haesch-nid-gseit-die-frechste-comedyshow-der-schweiz-7452325935624238261.html
END:VEVENT
END:VCALENDAR