BEGIN:VCALENDAR
VERSION:2.0
PRODID:EVENTFROG//EVENT//ICAL
BEGIN:VEVENT
UID:20260424T081827Z-7452327524527298629@eventfrog.ch
DTSTAMP:20260424T081827Z
DTSTART:20260510T143000Z
DTEND:20260510T160000Z
SUMMARY:Friedenskonzert mit Projektchor und Kammerphilharmonie
DESCRIPTION:Ein Projektchor und die Kammerphilharmonie Mannheim führen drei Mendelssohn-Werke unter Jens Hoffmann gratis auf, Kollekte erwünscht.\n\nhttps://eventfrog.ch/de/p/konzerte/chor/friedenskonzert-mit-projektchor-und-kammerphilharmonie-7452327524527298629.html
LOCATION:Stadtkirche Baden
GEO:47.472618;8.308585
URL:https://eventfrog.ch/de/p/konzerte/chor/friedenskonzert-mit-projektchor-und-kammerphilharmonie-7452327524527298629.html
END:VEVENT
END:VCALENDAR