BEGIN:VCALENDAR
VERSION:2.0
PRODID:EVENTFROG//EVENT//ICAL
BEGIN:VEVENT
UID:20260424T081827Z-7452329724439722486@eventfrog.ch
DTSTAMP:20260424T081827Z
DTSTART:20260528T180000Z
DTEND:20260528T200000Z
SUMMARY:Szenische Lesung mit Walter Küng
DESCRIPTION:Walter Küng und Wolfram Schneider Lastin lesen am Originalschauplatz aus den Texten der Badener Disputation von 1526.\n\nhttps://eventfrog.ch/de/p/theater-buehne/lesung/szenische-lesung-mit-walter-kueng-7452329724439722486.html
LOCATION:Stadtkirche Baden
GEO:47.472618;8.308585
URL:https://eventfrog.ch/de/p/theater-buehne/lesung/szenische-lesung-mit-walter-kueng-7452329724439722486.html
END:VEVENT
END:VCALENDAR