BEGIN:VCALENDAR
VERSION:2.0
PRODID:EVENTFROG//EVENT//ICAL
BEGIN:VEVENT
UID:20260425T155831Z-7452333291565220477@eventfrog.ch
DTSTAMP:20260425T155831Z
DTSTART:20260426T080000Z
DTEND:20260426T140000Z
SUMMARY:Hofflohmarkt Stolberg - Auf der Liester
DESCRIPTION:Nachbarschafts-Hofflohmarkt in Stolberg (Auf der Liester) am Sonntag, 26.04.2026, 10:00 bis 16:00 Uhr. Mehr als 50 Stände machen mit (aktuell 52).\n\nhttps://eventfrog.ch/de/p/maerkte/flohmarkt/hofflohmarkt-stolberg-auf-der-liester-7452333291565220477.html
LOCATION:Stolberg - Auf Der Liester
URL:https://eventfrog.ch/de/p/maerkte/flohmarkt/hofflohmarkt-stolberg-auf-der-liester-7452333291565220477.html
END:VEVENT
END:VCALENDAR