BEGIN:VCALENDAR
VERSION:2.0
PRODID:EVENTFROG//EVENT//ICAL
BEGIN:VEVENT
UID:20260424T064910Z-7452339308298533850@eventfrog.ch
DTSTAMP:20260424T064910Z
DTSTART:20261018T181500Z
SUMMARY:Robert Jon & The Wreck
DESCRIPTION:Rasante Gitarrensoli, gefühlvolle Harmonien und unwiderstehliche Grooves\n\nhttps://eventfrog.ch/de/p/konzerte/pop-rock/robert-jon-the-wreck-7452339308298533850.html
LOCATION:Konservi
GEO:47.352300;8.159470
URL:https://eventfrog.ch/de/p/konzerte/pop-rock/robert-jon-the-wreck-7452339308298533850.html
END:VEVENT
END:VCALENDAR