BEGIN:VCALENDAR
VERSION:2.0
PRODID:EVENTFROG//EVENT//ICAL
BEGIN:VEVENT
UID:20260424T075604Z-7452355563030058164@eventfrog.ch
DTSTAMP:20260424T075604Z
DTSTART:20260627T163000Z
SUMMARY:«Es ist genug: Norddeutsche Kantatenfür Tenor und Streicher»
DESCRIPTION:Raphael Höhn präsentiert norddeutsche Kantaten und Instrumentalmusik mit Ensemble zum Saisonabschluss.\n\nhttps://eventfrog.ch/de/p/klassik-opern/klassik/es-ist-genug-norddeutsche-kantatenfuer-tenor-und-streicher-7452355563030058164.html
LOCATION:Kartäuserkirche
GEO:47.558400;7.597130
URL:https://eventfrog.ch/de/p/klassik-opern/klassik/es-ist-genug-norddeutsche-kantatenfuer-tenor-und-streicher-7452355563030058164.html
END:VEVENT
END:VCALENDAR