BEGIN:VCALENDAR
VERSION:2.0
PRODID:EVENTFROG//EVENT//ICAL
BEGIN:VEVENT
UID:20260424T082809Z-7452356099368324815@eventfrog.ch
DTSTAMP:20260424T082809Z
DTSTART:20260628T150000Z
SUMMARY:«Es ist genug: Norddeutsche Kantatenfür Tenor und Streicher»
DESCRIPTION:Raphael Höhn singt norddeutsche Kantaten mit Instrumentalbegleitung zum Saisonabschluss in einem abwechslungsreichen Soloprogramm.\n\nhttps://eventfrog.ch/de/p/klassik-opern/klassik/es-ist-genug-norddeutsche-kantatenfuer-tenor-und-streicher-7452356099368324815.html
LOCATION:Kulturhaus Helferei
GEO:47.370333;8.545104
URL:https://eventfrog.ch/de/p/klassik-opern/klassik/es-ist-genug-norddeutsche-kantatenfuer-tenor-und-streicher-7452356099368324815.html
END:VEVENT
END:VCALENDAR