BEGIN:VCALENDAR
VERSION:2.0
PRODID:EVENTFROG//EVENT//ICAL
BEGIN:VEVENT
UID:20260424T094218Z-7452360084514975724@eventfrog.ch
DTSTAMP:20260424T094218Z
DTSTART:20260509T180000Z
DTEND:20260509T191500Z
SUMMARY:TOUT SEUL! Ou presque
DESCRIPTION:Un flûtiste, quelques flûtes et quelques accessoires… Du moyen-âge à nos jours en empruntant quelques chemins de traverses!\n\nhttps://eventfrog.ch/fr/p/concerts/musique-a-vent/tout-seul-ou-presque-7452360084514975724.html
LOCATION:Eglise romane de Saint-Sulpice
GEO:46.508860;6.559829
URL:https://eventfrog.ch/fr/p/concerts/musique-a-vent/tout-seul-ou-presque-7452360084514975724.html
END:VEVENT
END:VCALENDAR