BEGIN:VCALENDAR
VERSION:2.0
PRODID:EVENTFROG//EVENT//ICAL
BEGIN:VEVENT
UID:20260424T140837Z-7452361360762000155@eventfrog.ch
DTSTAMP:20260424T140837Z
DTSTART:20260430T190000Z
DTEND:20260501T000000Z
SUMMARY:Walpurgis und Hexen Party mit Varieté Show
DESCRIPTION:Walpurgis und Hexen Party in der Varieté & Cocktailbar Moselpalast in Traben-Trarbach mit  frisch zubereiteten Cocktails  und einer Varieté Show.\n\nhttps://eventfrog.ch/de/p/partys/cocktailparty/walpurgis-und-hexen-party-mit-variete-show-7452361360762000155.html
LOCATION:Moselpalast Varieté und Cocktail Bar
GEO:49.947985;7.115715
URL:https://eventfrog.ch/de/p/partys/cocktailparty/walpurgis-und-hexen-party-mit-variete-show-7452361360762000155.html
END:VEVENT
END:VCALENDAR