BEGIN:VCALENDAR
VERSION:2.0
PRODID:EVENTFROG//EVENT//ICAL
BEGIN:VEVENT
UID:20260424T075632Z-7452364515734254775@eventfrog.ch
DTSTAMP:20260424T075632Z
DTSTART:20260521T061500Z
DTEND:20260521T151000Z
SUMMARY:Wanderung Senioren Fislisbach
DESCRIPTION:Wanderung von Schönenberg ZH zum Sihlsprung und nach Sihlbrugg.\n\nhttps://eventfrog.ch/de/p/freizeit-ausfluege/wanderung/wanderung-senioren-fislisbach-7452364515734254775.html
LOCATION:Gemeindehaus
GEO:47.438854;8.292477
URL:https://eventfrog.ch/de/p/freizeit-ausfluege/wanderung/wanderung-senioren-fislisbach-7452364515734254775.html
END:VEVENT
END:VCALENDAR