BEGIN:VCALENDAR
VERSION:2.0
PRODID:EVENTFROG//EVENT//ICAL
BEGIN:VEVENT
UID:20260424T075630Z-7452371692322613899@eventfrog.ch
DTSTAMP:20260424T075630Z
DTSTART:20260509T143000Z
DTEND:20260509T163000Z
SUMMARY:Make Your Planter Pot - Pottery Workshop
DESCRIPTION:Workshop in Zürich: Töpfern von individuellen Pflanzengefässen am 9. Mai, Anfänger willkommen, Material inklusive.\n\nhttps://eventfrog.ch/en/p/courses-seminars/art-culture/make-your-planter-pot-pottery-workshop-7452371692322613899.html
LOCATION:CeramicsOnWheels Studio
GEO:47.404456;8.548438
URL:https://eventfrog.ch/en/p/courses-seminars/art-culture/make-your-planter-pot-pottery-workshop-7452371692322613899.html
END:VEVENT
END:VCALENDAR