BEGIN:VCALENDAR
VERSION:2.0
PRODID:EVENTFROG//EVENT//ICAL
BEGIN:VEVENT
UID:20260425T162020Z-7452384621650551371@eventfrog.ch
DTSTAMP:20260425T162020Z
DTSTART:20260516T180000Z
DTEND:20260516T200000Z
SUMMARY:"Well Wasted Time" ROBBY BALLHAUSE
DESCRIPTION:Robby Ballhause spielt seine Greengrass-Music: handgemachte Melodien aus Folk, Bluegrass, Country, Rock und Pop mit prägnanten Texten.\n\nhttps://eventfrog.ch/de/p/konzerte/singer-songwriter/well-wasted-time-robby-ballhause-7452384621650551371.html
LOCATION:Theater im Hinterhof
GEO:53.466727;9.689307
URL:https://eventfrog.ch/de/p/konzerte/singer-songwriter/well-wasted-time-robby-ballhause-7452384621650551371.html
END:VEVENT
END:VCALENDAR