BEGIN:VCALENDAR
VERSION:2.0
PRODID:EVENTFROG//EVENT//ICAL
BEGIN:VEVENT
UID:20260424T072142Z-7452399771925366013@eventfrog.ch
DTSTAMP:20260424T072142Z
DTSTART:20260613T080000Z
DTEND:20260613T151500Z
SUMMARY:Kontiki-Tag 2026
DESCRIPTION:Am Kontiki-Tag 2026 erleben Sie ganz viel nordische Inspiration: spannende Kurzvorträge, Diskussionen, Musik oder Spiel - lassen Sie überraschen!\n\nhttps://eventfrog.ch/de/p/diverses/kontiki-tag-2026-7452399771925366013.html
LOCATION:Kulturhaus Royal und Grand Casino Baden
GEO:47.478126;8.308648
URL:https://eventfrog.ch/de/p/diverses/kontiki-tag-2026-7452399771925366013.html
END:VEVENT
END:VCALENDAR