BEGIN:VCALENDAR
VERSION:2.0
PRODID:EVENTFROG//EVENT//ICAL
BEGIN:VEVENT
UID:20260424T072133Z-7452401878631981333@eventfrog.ch
DTSTAMP:20260424T072133Z
DTSTART:20260502T180000Z
DTEND:20260502T210000Z
SUMMARY:Jahreskonzert Dorfspatzen Oberägeri
DESCRIPTION:Jahreskonzert der Dorfspatzen Oberägeri - "...erfrischend anders!"\n\nhttps://eventfrog.ch/de/p/konzerte/blasmusik/jahreskonzert-dorfspatzen-oberaegeri-7452401878631981333.html
LOCATION:Maienmatt
GEO:47.135303;8.615534
URL:https://eventfrog.ch/de/p/konzerte/blasmusik/jahreskonzert-dorfspatzen-oberaegeri-7452401878631981333.html
END:VEVENT
END:VCALENDAR