BEGIN:VCALENDAR
VERSION:2.0
PRODID:EVENTFROG//EVENT//ICAL
BEGIN:VEVENT
UID:20260424T082811Z-7452421941711903422@eventfrog.ch
DTSTAMP:20260424T082811Z
DTSTART:20260430T160000Z
DTEND:20260430T190000Z
SUMMARY:Merlins Waldmeisterzeremonie – zur Walpurgisnacht
DESCRIPTION:Singkreis mit MagneTrio · Waldmeister-Ritual · Energetische Reise · Integration & Erdung\n\nhttps://eventfrog.ch/en/p/health-spirituality/spirituality/merlins-waldmeisterzeremonie-zur-walpurgisnacht-7452421941711903422.html
LOCATION:Bäumli-Saal
GEO:47.502500;8.744410
URL:https://eventfrog.ch/en/p/health-spirituality/spirituality/merlins-waldmeisterzeremonie-zur-walpurgisnacht-7452421941711903422.html
END:VEVENT
END:VCALENDAR