BEGIN:VCALENDAR
VERSION:2.0
PRODID:EVENTFROG//EVENT//ICAL
BEGIN:VEVENT
UID:20260424T163904Z-7452438272117103642@eventfrog.ch
DTSTAMP:20260424T163904Z
DTSTART:20260523T200000Z
SUMMARY:Shake it off!! 2010 plus Party w/ MK Lopez
DESCRIPTION:Hits von 2010 bis Heute mit DJ MK Lopez im CLub.\n\nhttps://eventfrog.ch/de/p/partys/charts-open-format/shake-it-off-2010-plus-party-w-mk-lopez-7452438272117103642.html
LOCATION:Bar59
GEO:47.041981;8.311045
URL:https://eventfrog.ch/de/p/partys/charts-open-format/shake-it-off-2010-plus-party-w-mk-lopez-7452438272117103642.html
END:VEVENT
END:VCALENDAR