BEGIN:VCALENDAR
VERSION:2.0
PRODID:EVENTFROG//EVENT//ICAL
BEGIN:VEVENT
UID:20260424T053229Z-7452442600311669864@eventfrog.ch
DTSTAMP:20260424T053229Z
DTSTART:20260501T200000Z
SUMMARY:Party Hard!! w/ C-Baker
DESCRIPTION:Mashup Party mit DJ C-Baker in der Bar.\n\nhttps://eventfrog.ch/de/p/partys/charts-open-format/party-hard-w-c-baker-7452442600311669864.html
LOCATION:Bar59
GEO:47.041981;8.311045
URL:https://eventfrog.ch/de/p/partys/charts-open-format/party-hard-w-c-baker-7452442600311669864.html
END:VEVENT
END:VCALENDAR