BEGIN:VCALENDAR
VERSION:2.0
PRODID:EVENTFROG//EVENT//ICAL
BEGIN:VEVENT
UID:20260424T163904Z-7452472415911676837@eventfrog.ch
DTSTAMP:20260424T163904Z
DTSTART:20260602T103000Z
DTEND:20260602T113000Z
SUMMARY:Kunst & Zmittag
DESCRIPTION:Kurze Führung durch die Ausstellung, danach Mittagessen.\n\nhttps://eventfrog.ch/de/p/kunst-ausstellungen/kunst-zmittag-7452472415911676837.html
LOCATION:Kunstmuseum St. Gallen
GEO:47.427814;9.381619
URL:https://eventfrog.ch/de/p/kunst-ausstellungen/kunst-zmittag-7452472415911676837.html
END:VEVENT
END:VCALENDAR