BEGIN:VCALENDAR
VERSION:2.0
PRODID:EVENTFROG//EVENT//ICAL
BEGIN:VEVENT
UID:20260424T075639Z-7452477166371995979@eventfrog.ch
DTSTAMP:20260424T075639Z
DTSTART:20260828T180000Z
DTEND:20260828T203000Z
SUMMARY:Steppin Stompers Dixieland Band (CH)
DESCRIPTION:„Spielen was Spazz macht!“ Seit 1966 gehören die “Steppin Stompers” im Raum Basel der regionalen Jazzszene an.\n\nhttps://eventfrog.ch/de/p/konzerte/jazz-blues/steppin-stompers-dixieland-band-ch-7452477166371995979.html
LOCATION:Jazzclub Ja-ZZ
GEO:47.553100;7.792320
URL:https://eventfrog.ch/de/p/konzerte/jazz-blues/steppin-stompers-dixieland-band-ch-7452477166371995979.html
END:VEVENT
END:VCALENDAR