BEGIN:VCALENDAR
VERSION:2.0
PRODID:EVENTFROG//EVENT//ICAL
BEGIN:VEVENT
UID:20260424T082916Z-7452613118386025807@eventfrog.ch
DTSTAMP:20260424T082916Z
DTSTART:20260509T090000Z
DTEND:20260509T160000Z
SUMMARY:Spring Sports Day
DESCRIPTION:Une occasion idéale de découvrir de nouvelles disciplines sportives et de profiter d’une ambiance fun\n\nhttps://eventfrog.ch/de/p/kinderveranstaltungen/familienveranstaltungen/spring-sports-day-7452613118386025807.html
LOCATION:Vaudoise aréna
GEO:46.528317;6.601654
URL:https://eventfrog.ch/de/p/kinderveranstaltungen/familienveranstaltungen/spring-sports-day-7452613118386025807.html
END:VEVENT
END:VCALENDAR