BEGIN:VCALENDAR
VERSION:2.0
PRODID:EVENTFROG//EVENT//ICAL
BEGIN:VEVENT
UID:20260425T163952Z-7452615753264589288@eventfrog.ch
DTSTAMP:20260425T163952Z
DTSTART:20260607T120000Z
DTEND:20260607T160000Z
SUMMARY:Vom Tafel- zum Faltenjura: Wanderung entlang alter Landmarch
DESCRIPTION:Franz Wülser führt auf 10 km von Tafeljura zum Faltenjura entlang historischer Grenzen mit Geschichten zu Politik, Natur und Kultur.\n\nhttps://eventfrog.ch/de/p/freizeit-ausfluege/wanderung/vom-tafel-zum-faltenjura-wanderung-entlang-alter-landmarch-7452615753264589288.html
LOCATION:Zeihen, Dorf
GEO:47.476269;8.083490
URL:https://eventfrog.ch/de/p/freizeit-ausfluege/wanderung/vom-tafel-zum-faltenjura-wanderung-entlang-alter-landmarch-7452615753264589288.html
END:VEVENT
END:VCALENDAR