BEGIN:VCALENDAR
VERSION:2.0
PRODID:EVENTFROG//EVENT//ICAL
BEGIN:VEVENT
UID:20260425T170232Z-7452619825405267912@eventfrog.ch
DTSTAMP:20260425T170232Z
DTSTART:20260508T160000Z
DTEND:20260626T220000Z
SUMMARY:Kunstausstellung: Niklaus Krebs
DESCRIPTION:Niklaus Krebs zeigt eine Ausstellung aus Holzskulpturen, die von Natur und Material inspiriert sind.\n\nhttps://eventfrog.ch/de/p/kunst-ausstellungen/ausstellung/kunstausstellung-niklaus-krebs-7452619825405267912.html
LOCATION:Hotel Seepark Thun
GEO:46.745151;7.633236
URL:https://eventfrog.ch/de/p/kunst-ausstellungen/ausstellung/kunstausstellung-niklaus-krebs-7452619825405267912.html
END:VEVENT
END:VCALENDAR