BEGIN:VCALENDAR
VERSION:2.0
PRODID:EVENTFROG//EVENT//ICAL
BEGIN:VEVENT
UID:20260424T075614Z-7452621508336194880@eventfrog.ch
DTSTAMP:20260424T075614Z
DTSTART:20260515T180000Z
SUMMARY:B59 Latin Groove
DESCRIPTION:Salsa, Bachata & Reggaeton in der Bar.\n\nhttps://eventfrog.ch/de/p/partys/latin-brasil/b59-latin-groove-7452621508336194880.html
LOCATION:Bar59
GEO:47.041981;8.311045
URL:https://eventfrog.ch/de/p/partys/latin-brasil/b59-latin-groove-7452621508336194880.html
END:VEVENT
END:VCALENDAR