BEGIN:VCALENDAR
VERSION:2.0
PRODID:EVENTFROG//EVENT//ICAL
BEGIN:VEVENT
UID:20260425T170233Z-7452621614443701675@eventfrog.ch
DTSTAMP:20260425T170233Z
DTSTART:20260508T160000Z
DTEND:20260627T120000Z
SUMMARY:Kunstausstellung: Patrick Osterholt
DESCRIPTION:Patrick Osterholt erschafft Kunstwerke mit zufälligen Materialien angelehnt an die Gutai-Bewegung. \n\nhttps://eventfrog.ch/de/p/kunst-ausstellungen/ausstellung/kunstausstellung-patrick-osterholt-7452621614443701675.html
LOCATION:Hotel Seepark Thun
GEO:46.745151;7.633236
URL:https://eventfrog.ch/de/p/kunst-ausstellungen/ausstellung/kunstausstellung-patrick-osterholt-7452621614443701675.html
END:VEVENT
END:VCALENDAR