BEGIN:VCALENDAR
VERSION:2.0
PRODID:EVENTFROG//EVENT//ICAL
BEGIN:VEVENT
UID:20260425T170233Z-7452623390534325831@eventfrog.ch
DTSTAMP:20260425T170233Z
DTSTART:20260508T160000Z
DTEND:20260627T120000Z
SUMMARY:Kunstausstellung: Peter Stalder
DESCRIPTION:Peter Stalder zeigt Bilder mit Wasser als Thema in Acryl und verschiedenen Materialien, welches ihnen eine ausgeprägte Tiefenwirkung gibt. \n\nhttps://eventfrog.ch/de/p/kunst-ausstellungen/ausstellung/kunstausstellung-peter-stalder-7452623390534325831.html
LOCATION:Hotel Seepark Thun
GEO:46.745151;7.633236
URL:https://eventfrog.ch/de/p/kunst-ausstellungen/ausstellung/kunstausstellung-peter-stalder-7452623390534325831.html
END:VEVENT
END:VCALENDAR